{
 "currentVersion": 11.5,
 "serviceDescription": "Raster/DEM_LIDAR_5FT",
 "serviceItemId": "263174ee998f4a65bf25b5cea2bec505",
 "name": "Raster/DEM_LIDAR_5FT",
 "description": "",
 "extent": {
  "xmin": 2379999.99,
  "ymin": 429999.99,
  "xmax": 2489999.99,
  "ymax": 569999.99,
  "spatialReference": {
   "wkid": 103191,
   "latestWkid": 6609
  }
 },
 "initialExtent": {
  "xmin": 2379999.99,
  "ymin": 429999.99,
  "xmax": 2489999.99,
  "ymax": 569999.99,
  "spatialReference": {
   "wkid": 103191,
   "latestWkid": 6609
  }
 },
 "fullExtent": {
  "xmin": 2379999.99,
  "ymin": 429999.99,
  "xmax": 2489999.99,
  "ymax": 569999.99,
  "spatialReference": {
   "wkid": 103191,
   "latestWkid": 6609
  }
 },
 "sortableFields": "",
 "bandCount": 1,
 "pixelType": "F32",
 "minValues": [
  721.4400024414062
 ],
 "maxValues": [
  1357.916259765625
 ],
 "meanValues": [
  973.6387483792072
 ],
 "stdvValues": [
  88.23174056367145
 ],
 "serviceProperties": "Center<\/MosaicMethod>First<\/MosaicOperator>true<\/SortAscending><\/LockImageID><\/TileOrderField>0<\/TileOrderBase>0.000000<\/AvgImageSpacingX>0.000000<\/AvgImageSpacingY>0.0<\/ViewPointX>0.0<\/ViewPointY>0.0<\/ViewPointDefShiftX>0.0<\/ViewPointDefShiftY>None<\/CompressionMethod>75<\/CompressionQuality>0.010000<\/CompressionTolerance>Bilinear<\/SamplingMethod><\/ImageServiceProperties><\/ImageServer>",
 "allowedFields": "",
 "hasMultidimensions": false,
 "pixelSizeX": 5,
 "pixelSizeY": 5,
 "meanPixelSize": 1.5240030480060962,
 "datasetFormat": "FGDBR",
 "uncompressedSize": 2464000000,
 "blockWidth": 128,
 "blockHeight": 128,
 "compressionType": "LZ77",
 "bandNames": [
  "Band_1"
 ],
 "allowCopy": true,
 "allowAnalysis": true,
 "itemAccess": false,
 "inspectionCapabilities": "",
 "minPixelSize": 0,
 "maxPixelSize": 0,
 "copyrightText": "",
 "serviceDataType": "esriImageServiceDataTypeGeneric",
 "serviceSourceType": "esriImageServiceSourceTypeDataset",
 "objectIdField": "",
 "fields": [],
 "capabilities": "Image,Metadata,Mensuration",
 "defaultMosaicMethod": "Center",
 "allowedMosaicMethods": "",
 "sortField": "",
 "sortValue": null,
 "sortAscending": true,
 "mosaicOperator": "First",
 "defaultCompressionQuality": 75,
 "defaultResamplingMethod": "Bilinear",
 "maxImageHeight": 4100,
 "maxImageWidth": 15000,
 "allowRasterFunction": true,
 "rasterFunctionInfos": [
  {
   "name": "None",
   "description": "",
   "help": ""
  }
 ],
 "rasterTypeInfos": [
  {
   "name": "Raster Dataset",
   "description": "Supports all ArcGIS Raster Datasets",
   "help": ""
  }
 ],
 "mensurationCapabilities": "Basic",
 "hasHistograms": true,
 "hasColormap": false,
 "hasRasterAttributeTable": false,
 "minScale": 0,
 "maxScale": 0,
 "exportTilesAllowed": false,
 "supportsStatistics": false,
 "supportsAdvancedQueries": false,
 "editFieldsInfo": null,
 "ownershipBasedAccessControlForRasters": null,
 "allowComputeTiePoints": false,
 "useStandardizedQueries": true,
 "advancedQueryCapabilities": {
  "useStandardizedQueries": true,
  "supportsStatistics": false,
  "supportsOrderBy": false,
  "supportsDistinct": false,
  "supportsPagination": false
 },
 "spatialReference": {
  "wkid": 103191,
  "latestWkid": 6609
 }
}
